BEGIN:VCALENDAR
VERSION:2.0
PRODID:-//Ohio Means Jobs - ECPv6.15.20//NONSGML v1.0//EN
CALSCALE:GREGORIAN
METHOD:PUBLISH
X-WR-CALNAME:Ohio Means Jobs
X-ORIGINAL-URL:https://everybodyworks.org
X-WR-CALDESC:Events for Ohio Means Jobs
REFRESH-INTERVAL;VALUE=DURATION:PT1H
X-Robots-Tag:noindex
X-PUBLISHED-TTL:PT1H
BEGIN:VTIMEZONE
TZID:UTC
BEGIN:STANDARD
TZOFFSETFROM:+0000
TZOFFSETTO:+0000
TZNAME:UTC
DTSTART:20250101T000000
END:STANDARD
END:VTIMEZONE
BEGIN:VEVENT
DTSTART;TZID=UTC:20260422T130000
DTEND;TZID=UTC:20260422T150000
DTSTAMP:20260419T145802
CREATED:20260414T170143Z
LAST-MODIFIED:20260416T133254Z
UID:37102-1776862800-1776870000@everybodyworks.org
SUMMARY:West Salem Community Hiring Event - April 22nd 1p to 3p
DESCRIPTION:
URL:https://everybodyworks.org/event/west-salem-community-hiring-event-april-22nd-1p-to-3p/
LOCATION:West Salem Library\, 99 E Buckeye St\,\, West Salem\, 44287 \, United States
CATEGORIES:Job Fair
ATTACH;FMTTYPE=image/png:https://everybodyworks.org/wp-content/uploads/2026/04/West-Salem-Event.png
END:VEVENT
BEGIN:VEVENT
DTSTART;TZID=UTC:20260519T090000
DTEND;TZID=UTC:20260519T140000
DTSTAMP:20260419T145802
CREATED:20260311T192340Z
LAST-MODIFIED:20260311T192340Z
UID:37011-1779181200-1779199200@everybodyworks.org
SUMMARY:FREE Certified Manufacturing Associate Course
DESCRIPTION:
URL:https://everybodyworks.org/event/free-certified-manufacturing-associate-course/
LOCATION:Wayne County Schools Career Center\, 518 W Prospect St\,\, Smithville\, OH\, 44677\, United States
ATTACH;FMTTYPE=image/png:https://everybodyworks.org/wp-content/uploads/2026/03/manuf-associate-class-flyer.png
END:VEVENT
END:VCALENDAR